



BEGIN:VCALENDAR
VERSION:2.0
PRODID:-//WP EVENT Manager Ical//NONSGML Events//EN
CALSCALE:GREGORIAN
BEGIN:VTIMEZONE
TZID:Asia/Kolkata
BEGIN:STANDARD
DTSTART:19700101T000000
TZOFFSETFROM:+0530
TZOFFSETTO:+0530
END:STANDARD
END:VTIMEZONE
BEGIN:VEVENT
UID:69e910f1c387e@brooklynbridgeparents.com
DTSTAMP:20260422T181825Z
DTSTART;TZID=Asia/Kolkata:20260425T100000
DTEND;TZID=Asia/Kolkata:20260425T160000
LOCATION:41st St to 45th St on 5th Avenue
SUMMARY:Car-Free Earth Day
DESCRIPTION:Car-Free Earth Day is back – and 5th Avenue from 41st to 45th Street in Sunset Park is at the center of the action. Come by to enjoy family-friendly activities, live music, and more with our neighbors.
END:VEVENT
END:VCALENDAR