



BEGIN:VCALENDAR
VERSION:2.0
PRODID:-//WP EVENT Manager Ical//NONSGML Events//EN
CALSCALE:GREGORIAN
BEGIN:VTIMEZONE
TZID:Asia/Kolkata
BEGIN:STANDARD
DTSTART:19700101T000000
TZOFFSETFROM:+0530
TZOFFSETTO:+0530
END:STANDARD
END:VTIMEZONE
BEGIN:VEVENT
UID:69e646f9b15ba@brooklynbridgeparents.com
DTSTAMP:20260420T153209Z
DTSTART;TZID=Asia/Kolkata:20260425T150000
DTEND;TZID=Asia/Kolkata:20260425T170000
LOCATION:ShapeShifter Lab, 837 Union Street, Brooklyn
SUMMARY:Funk Slope: Family-Friendly Funk Concert in Park Slope (All Ages)
DESCRIPTION:Funk Slope is back! Bring the kids, bring your friends, and come dance with us to live funk, soul, and rock hits the whole family will love.Tickets can be purchased at the door ($15 single, $50 for 4), or here: https://shapeshifterplus.org/event/funk-slope-3/Follow up on Instagram: https://www.instagram.com/funk.slope/
END:VEVENT
END:VCALENDAR