



BEGIN:VCALENDAR
VERSION:2.0
PRODID:-//WP EVENT Manager Ical//NONSGML Events//EN
CALSCALE:GREGORIAN
BEGIN:VTIMEZONE
TZID:Asia/Kolkata
BEGIN:STANDARD
DTSTART:19700101T000000
TZOFFSETFROM:+0530
TZOFFSETTO:+0530
END:STANDARD
END:VTIMEZONE
BEGIN:VEVENT
UID:69e6469520d28@brooklynbridgeparents.com
DTSTAMP:20260420T153029Z
DTSTART;TZID=Asia/Kolkata:20260426T103000
DTEND;TZID=Asia/Kolkata:20260426T150000
LOCATION:401 Court St, Brooklyn, NY 11231, United States
SUMMARY:Healing Mama’s Trauma
DESCRIPTION:A day of one-day-retreat style day of support for moms in the early years to cultivate healing and community (when things have been less than perfect). Hosted by Haven Somatic Healing in Carroll Gardens, this event was curated by a new mom for new-ish moms aiming to help fill the gaps in support around the true pressures on moms/ birthing parents. Through talks, mini bodywork sessions, 1:1 consultations and small supportive groups, you’ll have space to better understand and tend to your experience with guidance from trauma-informed clinicians while building community of moms with similar experiences.
END:VEVENT
END:VCALENDAR