



BEGIN:VCALENDAR
VERSION:2.0
PRODID:-//WP EVENT Manager Ical//NONSGML Events//EN
CALSCALE:GREGORIAN
BEGIN:VTIMEZONE
TZID:Asia/Kolkata
BEGIN:STANDARD
DTSTART:19700101T000000
TZOFFSETFROM:+0530
TZOFFSETTO:+0530
END:STANDARD
END:VTIMEZONE
BEGIN:VEVENT
UID:69ecfeca590e0@brooklynbridgeparents.com
DTSTAMP:20260425T175002Z
DTSTART;TZID=Asia/Kolkata:20260425T160000
DTEND;TZID=Asia/Kolkata:20260425T180000
LOCATION:Red Hook Field 5
SUMMARY:Red Hook Football Club Game
DESCRIPTION:Come cheer on the Red Hook Football Club against NY Braveheart at Red Hook Field 5. Reserve free tickets online. 
END:VEVENT
END:VCALENDAR