



BEGIN:VCALENDAR
VERSION:2.0
PRODID:-//WP EVENT Manager Ical//NONSGML Events//EN
CALSCALE:GREGORIAN
BEGIN:VTIMEZONE
TZID:Asia/Kolkata
BEGIN:STANDARD
DTSTART:19700101T000000
TZOFFSETFROM:+0530
TZOFFSETTO:+0530
END:STANDARD
END:VTIMEZONE
BEGIN:VEVENT
UID:69e4d4ab23152@brooklynbridgeparents.com
DTSTAMP:20260419T131211Z
DTSTART;TZID=Asia/Kolkata:20260426T100000
DTEND;TZID=Asia/Kolkata:20260426T130000
LOCATION:8121 Third Avenue, Brooklyn, NY 11209
SUMMARY:Toddler Pop Up Party 🎉
DESCRIPTION:&#x1f389;Toddler Pop Up Party on 4/26 hosted by a local mom at a new small business!&#x1f6dd;Clothing swap, live music and soft play area ideal for kids 1-4&#x1f4c5;Meet other local families on Sunday, April 26 from 10-1 (everyone gets 1 hour slot)
END:VEVENT
END:VCALENDAR